BEGIN:VCALENDAR
VERSION:2.0
PRODID:-//Lifestyle OBX - ECPv6.15.12.2//NONSGML v1.0//EN
CALSCALE:GREGORIAN
METHOD:PUBLISH
X-WR-CALNAME:Lifestyle OBX
X-ORIGINAL-URL:https://lifestyleobx.com
X-WR-CALDESC:Events for Lifestyle OBX
REFRESH-INTERVAL;VALUE=DURATION:PT1H
X-Robots-Tag:noindex
X-PUBLISHED-TTL:PT1H
BEGIN:VTIMEZONE
TZID:America/New_York
BEGIN:DAYLIGHT
TZOFFSETFROM:-0500
TZOFFSETTO:-0400
TZNAME:EDT
DTSTART:20250309T070000
END:DAYLIGHT
BEGIN:STANDARD
TZOFFSETFROM:-0400
TZOFFSETTO:-0500
TZNAME:EST
DTSTART:20251102T060000
END:STANDARD
BEGIN:DAYLIGHT
TZOFFSETFROM:-0500
TZOFFSETTO:-0400
TZNAME:EDT
DTSTART:20260308T070000
END:DAYLIGHT
BEGIN:STANDARD
TZOFFSETFROM:-0400
TZOFFSETTO:-0500
TZNAME:EST
DTSTART:20261101T060000
END:STANDARD
BEGIN:DAYLIGHT
TZOFFSETFROM:-0500
TZOFFSETTO:-0400
TZNAME:EDT
DTSTART:20270314T070000
END:DAYLIGHT
BEGIN:STANDARD
TZOFFSETFROM:-0400
TZOFFSETTO:-0500
TZNAME:EST
DTSTART:20271107T060000
END:STANDARD
END:VTIMEZONE
BEGIN:VEVENT
DTSTART;TZID=America/New_York:20260207T090000
DTEND;TZID=America/New_York:20260207T110000
DTSTAMP:20260423T031009
CREATED:20260103T043815Z
LAST-MODIFIED:20260129T065107Z
UID:10023299-1770454800-1770462000@lifestyleobx.com
SUMMARY:Alligator River Refuge Tram Tour
DESCRIPTION:Take a trip around the Alligator River Refuge and learn about the wild lands and wildlife. Bring your binoculars and camera! Drinking water and insect repellent are also recommended. The program will proceed\, except in the event of lightning\, heavy wind\, rain\, or impassable road conditions. Dress for the weather! Meet at Creef Cut Wildlife Trail parking lot\, Hwy 64 and Milltail Road\, approximately 6 miles west of Manns Harbor. Call 252-216-9464 for reservations. \nAlligator River Refuge Tram Tour $10 per adult. Children 12 and under are free with one or more paying adults. Reservations required. Tram seating is limited.
URL:https://lifestyleobx.com/event/alligator-river-refuge-tram-tour-2/2026-02-07/
LOCATION:Creef Cut Wildlife Trail\, Creef Cut Trail\, Manns Harbor\, N C\, 27953
ATTACH;FMTTYPE=image/jpeg:https://lifestyleobx.com/wp-content/uploads/2026/01/tram.jpeg
GEO:35.8617928;-75.8567335
X-APPLE-STRUCTURED-LOCATION;VALUE=URI;X-ADDRESS=Creef Cut Wildlife Trail Creef Cut Trail Manns Harbor N C 27953;X-APPLE-RADIUS=500;X-TITLE=Creef Cut Trail:geo:-75.8567335,35.8617928
END:VEVENT
BEGIN:VEVENT
DTSTART;TZID=America/New_York:20260207T100000
DTEND;TZID=America/New_York:20260207T170000
DTSTAMP:20260423T031009
CREATED:20260129T030744Z
LAST-MODIFIED:20260205T062011Z
UID:10023656-1770458400-1770483600@lifestyleobx.com
SUMMARY:Animals in Art Show 2026
DESCRIPTION:Come to the Animals in Art opening reception at Seaside Art Gallery on February 5 from 5–7 p.m. Sip\, stroll\, and enjoy incredible artwork created in support of needy animals. A portion (10%) of each sale benefits the OBX Coastal Humane Society. This event is FREE and open to the public. \n\nEvery purchase helps support working artists in the community.\n\n\nOpening Reception: Thursday\, February 5\, from 5–7 pm\nExhibition Dates: February 2–28\, Monday – Saturday 10 am – 5 pm\n\n\n\n\n\nSeaside Art Gallery\n2716 S. Virginia Dare Trail\, Nags Head\, NC\n\nThe Animals in Art show runs February 2–28\, at Seaside Art Gallery\, giving you plenty of time to explore the collection and find a piece that speaks to you. Ten percent of all art sales benefit Coastal Humane Society\, supporting programs that help pets stay healthy\, safe\, and with the families who love them \nCome for the reception\, stay for the art\, and help make a difference one beautiful piece of art at a time!
URL:https://lifestyleobx.com/event/animals-in-art-show-2026/2026-02-07/
LOCATION:Seaside Art Gallery\, South Virginia Dare Trail\, Kill Devil Hills\, NC\, 27948\, United States
ATTACH;FMTTYPE=image/jpeg:https://lifestyleobx.com/wp-content/uploads/2026/01/Animals-in-art.jpg
GEO:35.982262;-75.6387185
X-APPLE-STRUCTURED-LOCATION;VALUE=URI;X-ADDRESS=Seaside Art Gallery South Virginia Dare Trail Kill Devil Hills NC 27948 United States;X-APPLE-RADIUS=500;X-TITLE=South Virginia Dare Trail:geo:-75.6387185,35.982262
END:VEVENT
BEGIN:VEVENT
DTSTART;TZID=America/New_York:20260207T100000
DTEND;TZID=America/New_York:20260207T170000
DTSTAMP:20260423T031009
CREATED:20260205T042953Z
LAST-MODIFIED:20260205T042953Z
UID:10023621-1770458400-1770483600@lifestyleobx.com
SUMMARY:48th Annual Frank Stick Memorial Art Show
DESCRIPTION:The 48th Annual Frank Stick Memorial Art Show will open in our Courtroom Gallery on Friday\, February 6\, 2026\, at 6:00 pm. The opening reception is free and open to everyone. After the opening\, the show will be open for viewing during normal gallery hours\, February 7-28\, 2026. This event is FREE and open to the public. \nAbout The Frank Stick Memorial Art Show\nThe annual show is held in memory of Outer Banks preservationist and artist Frank Stick\, who was instrumental in having miles of the Cape Hatteras Seashore designated as the first National Seashore. The Frank Stick Memorial Art Show is the longest-running visual arts exhibit in Dare County. The exhibit goes on display every winter at Dare Arts. In 2017\, the show was held at the Dare Arts Gallery for the first time since its inception. \nArtists are encouraged to enter their most innovative work for the possibility of winning the distinctive Eure Best in Show Award\, which is an ode to Glenn and Pat Eure for their many years of hosting the Frank Stick Memorial Art Show at Ghost Fleet Gallery. \nThe Frank Stick Memorial Art Show is open to Dare Arts members and residents of Dare County age 18 and over. Artists wishing to participate in the show can find the prospectus and sign up for a specific time to drop off their work online at DareArts.org/frankstickshow.
URL:https://lifestyleobx.com/event/48th-annual-frank-stick-memorial-art-show/2026-02-07/
LOCATION:Dare Arts Center\, 300 Queen Elizabeth Ave\, Manteo\, 27954\, United States
ATTACH;FMTTYPE=image/jpeg:https://lifestyleobx.com/wp-content/uploads/2026/01/frank.jpg
GEO:35.9098971;-75.6697421
X-APPLE-STRUCTURED-LOCATION;VALUE=URI;X-ADDRESS=Dare Arts Center 300 Queen Elizabeth Ave Manteo 27954 United States;X-APPLE-RADIUS=500;X-TITLE=300 Queen Elizabeth Ave:geo:-75.6697421,35.9098971
END:VEVENT
BEGIN:VEVENT
DTSTART;TZID=America/New_York:20260207T190000
DTEND;TZID=America/New_York:20260207T210000
DTSTAMP:20260423T031009
CREATED:20260205T045918Z
LAST-MODIFIED:20260205T050401Z
UID:10023637-1770490800-1770498000@lifestyleobx.com
SUMMARY:Unitarian Universalist Congregation of the Outer Banks
DESCRIPTION:The public is invited to the fun and delicious ‘Chocolate and Services Auction’ just in time for Valentine’s Day! Auction items range from art to massage to hairstyling to golf outings to beach house vacations. And\, of course\, there will be chocolate. Lots of it. Enjoy hearty appetizers\, a variety of beverages\, great music\, and good company. Bring friends! The first couple to start dancing wins a special chocolate prize. \n\n\n\n\nPrice: Free\n\n\nAge limit: All ages welcome\n\n\nWhen is the Event?:\n\nSaturday\, February 7\, 2026 – 7:00 pm
URL:https://lifestyleobx.com/event/unitarian-universalist-congregation-of-the-outer-banks/
LOCATION:Unitarian Universalist Congregation of the Outer Banks\, 831 Herbert Perry Road\, Kitty Hawk\, NC
ATTACH;FMTTYPE=image/png:https://lifestyleobx.com/wp-content/uploads/2026/02/chocolate_auction.png
GEO:36.0643069;-75.7084799
X-APPLE-STRUCTURED-LOCATION;VALUE=URI;X-ADDRESS=Unitarian Universalist Congregation of the Outer Banks 831 Herbert Perry Road Kitty Hawk NC;X-APPLE-RADIUS=500;X-TITLE=831 Herbert Perry Road:geo:-75.7084799,36.0643069
END:VEVENT
END:VCALENDAR