BEGIN:VCALENDAR
VERSION:2.0
PRODID:-//Lifestyle OBX - ECPv6.15.12.2//NONSGML v1.0//EN
CALSCALE:GREGORIAN
METHOD:PUBLISH
X-ORIGINAL-URL:https://lifestyleobx.com
X-WR-CALDESC:Events for Lifestyle OBX
REFRESH-INTERVAL;VALUE=DURATION:PT1H
X-Robots-Tag:noindex
X-PUBLISHED-TTL:PT1H
BEGIN:VTIMEZONE
TZID:America/New_York
BEGIN:DAYLIGHT
TZOFFSETFROM:-0500
TZOFFSETTO:-0400
TZNAME:EDT
DTSTART:20250309T070000
END:DAYLIGHT
BEGIN:STANDARD
TZOFFSETFROM:-0400
TZOFFSETTO:-0500
TZNAME:EST
DTSTART:20251102T060000
END:STANDARD
BEGIN:DAYLIGHT
TZOFFSETFROM:-0500
TZOFFSETTO:-0400
TZNAME:EDT
DTSTART:20260308T070000
END:DAYLIGHT
BEGIN:STANDARD
TZOFFSETFROM:-0400
TZOFFSETTO:-0500
TZNAME:EST
DTSTART:20261101T060000
END:STANDARD
BEGIN:DAYLIGHT
TZOFFSETFROM:-0500
TZOFFSETTO:-0400
TZNAME:EDT
DTSTART:20270314T070000
END:DAYLIGHT
BEGIN:STANDARD
TZOFFSETFROM:-0400
TZOFFSETTO:-0500
TZNAME:EST
DTSTART:20271107T060000
END:STANDARD
END:VTIMEZONE
BEGIN:VEVENT
DTSTART;TZID=America/New_York:20260322T053000
DTEND;TZID=America/New_York:20260322T130000
DTSTAMP:20260422T182533
CREATED:20260312T044819Z
LAST-MODIFIED:20260312T044819Z
UID:10023758-1774157400-1774184400@lifestyleobx.com
SUMMARY:Blackbeard's Revenge 100 Ultra & Relay
DESCRIPTION:Embrace your inner pirate at the Blackbeard’s Revenge 100\, an epic ultra-distance race across the Outer Banks. This unique endurance event invites runners to conquer 100 miles\, 100 kilometers\, or a team relay along a scenic coastal route stretching from Corolla to Hatteras. \nThe race begins early on Saturday\, March 21\, 2026\, with the 100-mile start in Corolla and the 100K start in Nags Head\, sending runners south along 100% paved coastal roads that traverse the length of the Outer Banks. Participants face shifting weather\, coastal winds\, and long stretches of open road—making the challenge both physically demanding and unforgettable. \nThe adventure concludes at The Wreck Tiki Bar in Hatteras\, where runners celebrate their finish after completing one of the East Coast’s most distinctive ultramarathons. Must register by the end of the day March 17. \nBlackbeard’s Revenge Starting Locations Based on Race:\n100 Mile Start Line – Historic Corolla Park\, 1160 Village Lane\, Corolla\, NC\n100K Start Line – Jennette’s Pier\, 7223 S. Virginia Dare Trail\, Nags Head\, NC\nFinish Line – The Wreck Tiki Bar\, 58848 Marina Way A-4\, Hatteras\, NC \nDate: March 21–22\, 2026Start Time: 5:30 AM (100-mile start)Distances: 100 Mile\, 100K\, 100-mile relay\, and virtual optionsStart Locations: Corolla and Nags HeadFinish: The Wreck Tiki Bar\, HatterasRegistration: Pre-registration required \nThis epic endurance event challenges runners to embrace their inner buccaneer and conquer the Outer Banks one mile at a time.
URL:https://lifestyleobx.com/event/blackbeards-revenge-100-ultra-relay/2026-03-22/
LOCATION:NC
ATTACH;FMTTYPE=image/jpeg:https://lifestyleobx.com/wp-content/uploads/2026/03/Blackbeard-revenge.jpg
END:VEVENT
END:VCALENDAR