BEGIN:VCALENDAR
VERSION:2.0
PRODID:-//Lifestyle OBX - ECPv6.15.12.2//NONSGML v1.0//EN
CALSCALE:GREGORIAN
METHOD:PUBLISH
X-WR-CALNAME:Lifestyle OBX
X-ORIGINAL-URL:https://lifestyleobx.com
X-WR-CALDESC:Events for Lifestyle OBX
REFRESH-INTERVAL;VALUE=DURATION:PT1H
X-Robots-Tag:noindex
X-PUBLISHED-TTL:PT1H
BEGIN:VTIMEZONE
TZID:America/New_York
BEGIN:DAYLIGHT
TZOFFSETFROM:-0500
TZOFFSETTO:-0400
TZNAME:EDT
DTSTART:20250309T070000
END:DAYLIGHT
BEGIN:STANDARD
TZOFFSETFROM:-0400
TZOFFSETTO:-0500
TZNAME:EST
DTSTART:20251102T060000
END:STANDARD
BEGIN:DAYLIGHT
TZOFFSETFROM:-0500
TZOFFSETTO:-0400
TZNAME:EDT
DTSTART:20260308T070000
END:DAYLIGHT
BEGIN:STANDARD
TZOFFSETFROM:-0400
TZOFFSETTO:-0500
TZNAME:EST
DTSTART:20261101T060000
END:STANDARD
BEGIN:DAYLIGHT
TZOFFSETFROM:-0500
TZOFFSETTO:-0400
TZNAME:EDT
DTSTART:20270314T070000
END:DAYLIGHT
BEGIN:STANDARD
TZOFFSETFROM:-0400
TZOFFSETTO:-0500
TZNAME:EST
DTSTART:20271107T060000
END:STANDARD
END:VTIMEZONE
BEGIN:VEVENT
DTSTART;TZID=America/New_York:20260419T080000
DTEND;TZID=America/New_York:20260419T170000
DTSTAMP:20260419T215602
CREATED:20260326T033212Z
LAST-MODIFIED:20260326T033212Z
UID:10023761-1776585600-1776618000@lifestyleobx.com
SUMMARY:Outer Banks Bike Week 2026
DESCRIPTION:The 24th Annual Outer Banks Bike Week roars into the Outer Banks from April 18–26\, 2026\, bringing thousands of riders and motorcycle enthusiasts together for nine days of coastal cruising\, entertainment\, and biker culture. The rally is headquartered at Outer Banks Harley-Davidson\, just north of the Wright Memorial Bridge\, but events and rides take place throughout the Outer Banks. \nThroughout the week\, visitors can enjoy guided scenic rides along the barrier islands\, live music\, bike shows\, demo rides\, and a bustling vendor marketplace. Special events include a Poker Run\, bike games\, contests\, and daily entertainment\, along with opportunities to explore some of the region’s most iconic coastal routes—from Corolla to Ocracoke Island. \nThe event grounds open daily starting at 9:00 AM\, and many activities are free to attend\, making it a fun stop for both riders and spectators. Whether you’re a motorcycle enthusiast or simply want to experience the energy and camaraderie of one of the East Coast’s most unique rallies\, Outer Banks Bike Week offers a lively atmosphere and plenty of reasons to ride—or just stop by and enjoy the show.
URL:https://lifestyleobx.com/event/outer-banks-bike-week-2026/2026-04-19/
LOCATION:Outer Banks Harley-Davidson\, Caratoke Highway\, Harbinger\, NC\, 27941\, United States
ATTACH;FMTTYPE=image/jpeg:https://lifestyleobx.com/wp-content/uploads/2026/03/Bike-Week.jpg
GEO:36.1009567;-75.8124679
X-APPLE-STRUCTURED-LOCATION;VALUE=URI;X-ADDRESS=Outer Banks Harley-Davidson Caratoke Highway Harbinger NC 27941 United States;X-APPLE-RADIUS=500;X-TITLE=Caratoke Highway:geo:-75.8124679,36.1009567
END:VEVENT
BEGIN:VEVENT
DTSTART;TZID=America/New_York:20260419T130000
DTEND;TZID=America/New_York:20260419T170000
DTSTAMP:20260419T215602
CREATED:20260410T045725Z
LAST-MODIFIED:20260410T045725Z
UID:10024319-1776603600-1776618000@lifestyleobx.com
SUMMARY:Lost Colony Wine & Culinary Festival 2026
DESCRIPTION:Sip\, savor\, and celebrate on the waterfront at the annual Wine & Culinary Festival hosted by The Lost Colony in Manteo. This popular spring event brings together Outer Banks chefs\, regional wineries\, and craft brewers for an afternoon of tastings\, live music\, and coastal views at the historic Waterside Theatre. Guests can sample dishes from local restaurants while enjoying wines from around the world\, craft beer selections\, and browsing a silent auction and regional art displays. The Grand Tasting runs from 2–5 PM (VIP entry begins at 1 PM) and is a 21+ ticketed event benefiting the historic outdoor drama. \nTicket prices: General Admission $90\, VIP $110 (early entry)\, Non-Alcohol GA $50\, and Non-Alcohol VIP $60.
URL:https://lifestyleobx.com/event/lost-colony-wine-culinary-festival-2026/
LOCATION:The Lost Colony\, 1409 National Park Dr\, Manteo\, NC\, 27954\, United States
ATTACH;FMTTYPE=image/png:https://lifestyleobx.com/wp-content/uploads/2026/04/ChatGPT-Image-Apr-10-2026-12_56_03-AM.png
GEO:35.939115;-75.7087542
X-APPLE-STRUCTURED-LOCATION;VALUE=URI;X-ADDRESS=The Lost Colony 1409 National Park Dr Manteo NC 27954 United States;X-APPLE-RADIUS=500;X-TITLE=1409 National Park Dr:geo:-75.7087542,35.939115
END:VEVENT
BEGIN:VEVENT
DTSTART;TZID=America/New_York:20260419T160000
DTEND;TZID=America/New_York:20260419T170000
DTSTAMP:20260419T215602
CREATED:20260326T041309Z
LAST-MODIFIED:20260326T041309Z
UID:10023776-1776614400-1776618000@lifestyleobx.com
SUMMARY:Surfrider Foundation Spring Beach Cleanup
DESCRIPTION:Give back to the beautiful shores of the Outer Banks at the Surfrider Foundation Spring Beach Cleanup on April 19\, 2026\, from 4:00–5:00 PM in Nags Head. Hosted by Kitty Hawk Kites in partnership with the Surfrider Foundation Outer Banks Chapter\, this community event invites locals and visitors alike to help keep OBX beaches and waterways clean. \nVolunteers will meet at the Soundside Road public access near Jockey’s Ridge State Park to check in and receive gloves and cleanup bags before spreading out along the shoreline to collect litter. Participants are also encouraged to log what they find using the Marine Debris Tracker app\, helping support ongoing environmental research and conservation efforts. \nThis free\, family-friendly event welcomes volunteers of all ages (pets included—just keep them leashed). It’s a simple but meaningful way to enjoy the outdoors while helping protect the fragile coastal ecosystems that make the Outer Banks so special. \nAdditional Dates: \n\nApril 19th at 4:00 PM\nJuly 5th at 5:00 PM\nSeptember 20th at 4:00 PM
URL:https://lifestyleobx.com/event/surfrider-foundation-spring-beach-cleanup/2026-04-19/
LOCATION:Jockey’s Ridge Soundside Access\, 330 W Soundside Rd\, Nags Head\, 27959\, United States
ATTACH;FMTTYPE=image/png:https://lifestyleobx.com/wp-content/uploads/2026/03/Image-3-26-26-at-12.06-AM.png
GEO:35.9519469;-75.631874
X-APPLE-STRUCTURED-LOCATION;VALUE=URI;X-ADDRESS=Jockey’s Ridge Soundside Access 330 W Soundside Rd Nags Head 27959 United States;X-APPLE-RADIUS=500;X-TITLE=330 W Soundside Rd:geo:-75.631874,35.9519469
END:VEVENT
END:VCALENDAR