BEGIN:VCALENDAR
VERSION:2.0
PRODID:-//Lifestyle OBX - ECPv6.15.12.2//NONSGML v1.0//EN
CALSCALE:GREGORIAN
METHOD:PUBLISH
X-WR-CALNAME:Lifestyle OBX
X-ORIGINAL-URL:https://lifestyleobx.com
X-WR-CALDESC:Events for Lifestyle OBX
REFRESH-INTERVAL;VALUE=DURATION:PT1H
X-Robots-Tag:noindex
X-PUBLISHED-TTL:PT1H
BEGIN:VTIMEZONE
TZID:America/New_York
BEGIN:DAYLIGHT
TZOFFSETFROM:-0500
TZOFFSETTO:-0400
TZNAME:EDT
DTSTART:20250309T070000
END:DAYLIGHT
BEGIN:STANDARD
TZOFFSETFROM:-0400
TZOFFSETTO:-0500
TZNAME:EST
DTSTART:20251102T060000
END:STANDARD
BEGIN:DAYLIGHT
TZOFFSETFROM:-0500
TZOFFSETTO:-0400
TZNAME:EDT
DTSTART:20260308T070000
END:DAYLIGHT
BEGIN:STANDARD
TZOFFSETFROM:-0400
TZOFFSETTO:-0500
TZNAME:EST
DTSTART:20261101T060000
END:STANDARD
BEGIN:DAYLIGHT
TZOFFSETFROM:-0500
TZOFFSETTO:-0400
TZNAME:EDT
DTSTART:20270314T070000
END:DAYLIGHT
BEGIN:STANDARD
TZOFFSETFROM:-0400
TZOFFSETTO:-0500
TZNAME:EST
DTSTART:20271107T060000
END:STANDARD
END:VTIMEZONE
BEGIN:VEVENT
DTSTART;TZID=America/New_York:20260424T080000
DTEND;TZID=America/New_York:20260424T093000
DTSTAMP:20260424T055419
CREATED:20260103T041214Z
LAST-MODIFIED:20260423T043001Z
UID:10024336-1777017600-1777023000@lifestyleobx.com
SUMMARY:Pea Island Bird Walk
DESCRIPTION:Pea Island National Wildlife Refuge is home to nearly 400 species of birds that reside here or migrate through. Whether you’re a beginner or an expert\, you’ll enjoy this casual stroll beside North Pond. Field guides\, binoculars\, sunscreen\, and insect repellent are recommended. Some field guides and binoculars will be available for loan. Pea Island Bird Walks are held year-round except during the Wings Over Water Wildlife Festival in October and December. Meet at the Pea Island National Wildlife Refuge Visitor Center\, located on NC Highway 12 approximately 4 miles south of Oregon Inlet and 9 miles north of Rodanthe. The Pea Island Bird Walk is FREE.
URL:https://lifestyleobx.com/event/pea-island-bird-walk/2026-04-24/
LOCATION:Pea Island National Wildlife Refuge Visitor Center\, 14500 NC Hwy 12\, Rodanthe\, NC\, 27968\, United States
ATTACH;FMTTYPE=image/jpeg:https://lifestyleobx.com/wp-content/uploads/2026/01/Pea-Island.jpeg
GEO:35.7166672;-75.4937378
X-APPLE-STRUCTURED-LOCATION;VALUE=URI;X-ADDRESS=Pea Island National Wildlife Refuge Visitor Center 14500 NC Hwy 12 Rodanthe NC 27968 United States;X-APPLE-RADIUS=500;X-TITLE=14500 NC Hwy 12:geo:-75.4937378,35.7166672
END:VEVENT
BEGIN:VEVENT
DTSTART;TZID=America/New_York:20260424T080000
DTEND;TZID=America/New_York:20260424T170000
DTSTAMP:20260424T055419
CREATED:20260326T033212Z
LAST-MODIFIED:20260326T033212Z
UID:10023766-1777017600-1777050000@lifestyleobx.com
SUMMARY:Outer Banks Bike Week 2026
DESCRIPTION:The 24th Annual Outer Banks Bike Week roars into the Outer Banks from April 18–26\, 2026\, bringing thousands of riders and motorcycle enthusiasts together for nine days of coastal cruising\, entertainment\, and biker culture. The rally is headquartered at Outer Banks Harley-Davidson\, just north of the Wright Memorial Bridge\, but events and rides take place throughout the Outer Banks. \nThroughout the week\, visitors can enjoy guided scenic rides along the barrier islands\, live music\, bike shows\, demo rides\, and a bustling vendor marketplace. Special events include a Poker Run\, bike games\, contests\, and daily entertainment\, along with opportunities to explore some of the region’s most iconic coastal routes—from Corolla to Ocracoke Island. \nThe event grounds open daily starting at 9:00 AM\, and many activities are free to attend\, making it a fun stop for both riders and spectators. Whether you’re a motorcycle enthusiast or simply want to experience the energy and camaraderie of one of the East Coast’s most unique rallies\, Outer Banks Bike Week offers a lively atmosphere and plenty of reasons to ride—or just stop by and enjoy the show.
URL:https://lifestyleobx.com/event/outer-banks-bike-week-2026/2026-04-24/
LOCATION:Outer Banks Harley-Davidson\, Caratoke Highway\, Harbinger\, NC\, 27941\, United States
ATTACH;FMTTYPE=image/jpeg:https://lifestyleobx.com/wp-content/uploads/2026/03/Bike-Week.jpg
GEO:36.1009567;-75.8124679
X-APPLE-STRUCTURED-LOCATION;VALUE=URI;X-ADDRESS=Outer Banks Harley-Davidson Caratoke Highway Harbinger NC 27941 United States;X-APPLE-RADIUS=500;X-TITLE=Caratoke Highway:geo:-75.8124679,36.1009567
END:VEVENT
BEGIN:VEVENT
DTSTART;TZID=America/New_York:20260424T090000
DTEND;TZID=America/New_York:20260424T163000
DTSTAMP:20260424T055419
CREATED:20260122T072618Z
LAST-MODIFIED:20260402T051138Z
UID:10023263-1777021200-1777048200@lifestyleobx.com
SUMMARY:Rotating Art Show: Golden Hour by Robyn Scott
DESCRIPTION:Rotating Art Show: Golden Hour by Robyn Scott \nExhibit Dates:\nJanuary 30 – April 23\, 2026\nOn Display: Monday–Friday\, 9:00 AM – 4:30 PM \nOpening Reception:\nSaturday\, January 31\, 2026\n3:00 PM – 5:00 PM\nMeet the artist\, enjoy refreshments\, and celebrate coastal-inspired art! \nLocation:\nDuck Town Hall – First Floor Conference Room\n1200 Duck Road\nDuck\, NC 27949 \nGolden Hour is a love letter to the Carolina coast\, where the light hits Mother Earth with a gentle glow leading into the peaceful night sky. This collection is meant to celebrate the warm hug offered by our beautiful ocean as we drive up and down the coastal roads\, exploring the many beaches and seaside shops. Many of the works feature scenes from Corolla\, in particular some of my favorite hidden soundside spots and stretches of the beach in the offseason. \nRobyn Scott is a former K-8 art teacher and visual artist. She loves exploring how paint can express joy\, imagination\, and the beauty of natural spaces while working with bright color palettes that amplify the radiant hues of the Carolinas. She paints using acrylics on canvas\, focusing on layering and color blocking techniques to achieve a vibrant effect\, adding a touch of glitter here and there. She also works in fibers\, mixed media\, and pen and ink. Robyn has shown her work at venues such as the Imperial Centre for Arts & Science in Rocky Mount.
URL:https://lifestyleobx.com/event/rotating-art-show-golden-hour-by-robyn-scott/2026-04-24/
LOCATION:Duck Town Hall\, 1200 Duck Rd\, Duck\, 27949\, United States
ATTACH;FMTTYPE=application/pdf:https://lifestyleobx.com/wp-content/uploads/2026/01/Rotating_Art_Show_Opening_Reception_Flyer.pdf
GEO:36.1650759;-75.7536377
X-APPLE-STRUCTURED-LOCATION;VALUE=URI;X-ADDRESS=Duck Town Hall 1200 Duck Rd Duck 27949 United States;X-APPLE-RADIUS=500;X-TITLE=1200 Duck Rd:geo:-75.7536377,36.1650759
END:VEVENT
BEGIN:VEVENT
DTSTART;TZID=America/New_York:20260424T130000
DTEND;TZID=America/New_York:20260424T190000
DTSTAMP:20260424T055419
CREATED:20260410T051245Z
LAST-MODIFIED:20260410T051245Z
UID:10024320-1777035600-1777057200@lifestyleobx.com
SUMMARY:Flying Pirate Half Marathon
DESCRIPTION:Ahoy\, runners! The annual Flying Pirate Race Weekend returns to the Outer Banks April 24–26 with a swashbuckling lineup of races for all ages and skill levels. The weekend’s signature Flying Pirate Half Marathon takes participants on a scenic 13.1-mile course through Kill Devil Hills and Kitty Hawk\, starting and finishing near the Wright Brothers Memorial and showcasing the coastal beauty of the Outer Banks. \nIn addition to the half-marathon\, the event includes a 5K\, 8K\, and a family-friendly fun run\, plus the popular Double Dare Challenge for runners who complete the half-marathon along with another race. With a festive pirate theme\, runners often dress in costume\, and the weekend features an expo\, finisher medals\, post-race food and drinks\, and a lively atmosphere that makes it a favorite spring tradition on the OBX. \nFlying Pirate Race Registration Fees\n\nHalf Marathon (13.1 miles) – about $85 + processing fee\n8K Race – about $65 + processing fee\n5K Race – about $60 + processing fee\nDouble Dare Challenge (Half Marathon + 5K or 8K) – about $125 + processing fee\nFun Run (family/kids event) – about $30 + processing fee\n\nFriday\, April 24\n\n1:00–7:00 PM – Expo & Packet Pick-UpLocation: St. Andrew’s By-the-Sea\, Nags Head\n\nSaturday\, April 25\n\n7:30 AM – 8K Race Start (Wright Brothers Memorial)\n7:45 AM – 5K Race Start (Wright Brothers Memorial)\n8:30 AM – Fun Run Start\n9:00 AM – Awards Ceremony & After-Party\n11:00 AM–4:00 PM – Expo & Packet Pick-Up (St. Andrew’s By-the-Sea)\n\nSunday\, April 26\n\n7:00 AM – Flying Pirate Half Marathon & Challenge Start\n8:30 AM–12:30 PM – Pirate Jamboree (post-race celebration)\n11:30 AM – Awards\, Food\, Beer & Finish-Line Party
URL:https://lifestyleobx.com/event/flying-pirate-half-marathon/2026-04-24/
LOCATION:St. Andrew’s By-the-Sea Episcopal Church\, 4212 S Virginia Dare Trail\, Nags Head\, 27959
ATTACH;FMTTYPE=image/png:https://lifestyleobx.com/wp-content/uploads/2026/04/ChatGPT-Image-Apr-10-2026-01_10_04-AM.png
GEO:35.9505327;-75.6215872
X-APPLE-STRUCTURED-LOCATION;VALUE=URI;X-ADDRESS=St. Andrew’s By-the-Sea Episcopal Church 4212 S Virginia Dare Trail Nags Head 27959;X-APPLE-RADIUS=500;X-TITLE=4212 S Virginia Dare Trail:geo:-75.6215872,35.9505327
END:VEVENT
BEGIN:VEVENT
DTSTART;TZID=America/New_York:20260424T173000
DTEND;TZID=America/New_York:20260424T220000
DTSTAMP:20260424T055419
CREATED:20260402T042608Z
LAST-MODIFIED:20260402T042640Z
UID:10023789-1777051800-1777068000@lifestyleobx.com
SUMMARY:OBX Star Party
DESCRIPTION:April 24\, 2026 | 5:30–10:00 PM | Jockey’s Ridge State Park \nDiscover the wonders of the night sky during the Statewide Star Party: OBX at Jockey’s Ridge State Park. Beginning at 5:30 PM\, families can explore space-themed activity tables and hands-on educational experiences for kids before darkness falls. As the sun sets\, telescopes will be set up for public viewing\, giving visitors the chance to observe planets\, stars\, and other celestial objects with guidance from local astronomers. The free outdoor event is part of the North Carolina Science Festival’s statewide Star Party\, which brings skywatching programs to dozens of locations across North Carolina. Weather permitting\, night sky viewing continues until 10:00 PM\, and all are welcome to attend this FREE event.
URL:https://lifestyleobx.com/event/obx-star-party/
LOCATION:Jockey’s Ridge State Park\, 300 W Carolista Dr\, Nags Head\, NC\, 27959\, United States
ATTACH;FMTTYPE=image/png:https://lifestyleobx.com/wp-content/uploads/2026/04/Star-Party.png
GEO:35.9638391;-75.6329535
X-APPLE-STRUCTURED-LOCATION;VALUE=URI;X-ADDRESS=Jockey’s Ridge State Park 300 W Carolista Dr Nags Head NC 27959 United States;X-APPLE-RADIUS=500;X-TITLE=300 W Carolista Dr:geo:-75.6329535,35.9638391
END:VEVENT
END:VCALENDAR