BEGIN:VCALENDAR
VERSION:2.0
PRODID:-//Lifestyle OBX - ECPv6.15.12.2//NONSGML v1.0//EN
CALSCALE:GREGORIAN
METHOD:PUBLISH
X-ORIGINAL-URL:https://lifestyleobx.com
X-WR-CALDESC:Events for Lifestyle OBX
REFRESH-INTERVAL;VALUE=DURATION:PT1H
X-Robots-Tag:noindex
X-PUBLISHED-TTL:PT1H
BEGIN:VTIMEZONE
TZID:America/New_York
BEGIN:DAYLIGHT
TZOFFSETFROM:-0500
TZOFFSETTO:-0400
TZNAME:EDT
DTSTART:20250309T070000
END:DAYLIGHT
BEGIN:STANDARD
TZOFFSETFROM:-0400
TZOFFSETTO:-0500
TZNAME:EST
DTSTART:20251102T060000
END:STANDARD
BEGIN:DAYLIGHT
TZOFFSETFROM:-0500
TZOFFSETTO:-0400
TZNAME:EDT
DTSTART:20260308T070000
END:DAYLIGHT
BEGIN:STANDARD
TZOFFSETFROM:-0400
TZOFFSETTO:-0500
TZNAME:EST
DTSTART:20261101T060000
END:STANDARD
BEGIN:DAYLIGHT
TZOFFSETFROM:-0500
TZOFFSETTO:-0400
TZNAME:EDT
DTSTART:20270314T070000
END:DAYLIGHT
BEGIN:STANDARD
TZOFFSETFROM:-0400
TZOFFSETTO:-0500
TZNAME:EST
DTSTART:20271107T060000
END:STANDARD
END:VTIMEZONE
BEGIN:VEVENT
DTSTART;TZID=America/New_York:20260524T120000
DTEND;TZID=America/New_York:20260524T160000
DTSTAMP:20260421T210503
CREATED:20260312T043458Z
LAST-MODIFIED:20260312T043458Z
UID:10023756-1779624000-1779638400@lifestyleobx.com
SUMMARY:Soundside Spring Market Series
DESCRIPTION:Celebrate the season at the Soundside Spring Market Series\, featuring three vibrant outdoor markets this spring. The series begins with a Spring Equinox Market on Saturday\, March 21\, followed by an Easter Weekend Market on Saturday\, April 4\, and wraps up with a Memorial Day Weekend Market on Sunday\, May 24\, kicking off the summer season. \nVisitors can enjoy sunshine\, local vendors\, and a lively community atmosphere while browsing unique goods and supporting local businesses. The markets build on the strong momentum of the 2025 season and promise plenty of shopping\, sunshine\, and springtime fun.
URL:https://lifestyleobx.com/event/soundside-spring-market-series/2026-05-24/
LOCATION:The Soundside Event Site\, 6800 S Croatan Hwy\, Nags Head\, NC\, 27959\, United States
ATTACH;FMTTYPE=image/webp:https://lifestyleobx.com/wp-content/uploads/2026/03/soundside.webp
GEO:35.9169275;-75.6050321
X-APPLE-STRUCTURED-LOCATION;VALUE=URI;X-ADDRESS=The Soundside Event Site 6800 S Croatan Hwy Nags Head NC 27959 United States;X-APPLE-RADIUS=500;X-TITLE=6800 S Croatan Hwy:geo:-75.6050321,35.9169275
END:VEVENT
END:VCALENDAR