BEGIN:VCALENDAR
VERSION:2.0
PRODID:-//Lifestyle OBX - ECPv6.15.12.2//NONSGML v1.0//EN
CALSCALE:GREGORIAN
METHOD:PUBLISH
X-ORIGINAL-URL:https://lifestyleobx.com
X-WR-CALDESC:Events for Lifestyle OBX
REFRESH-INTERVAL;VALUE=DURATION:PT1H
X-Robots-Tag:noindex
X-PUBLISHED-TTL:PT1H
BEGIN:VTIMEZONE
TZID:America/New_York
BEGIN:DAYLIGHT
TZOFFSETFROM:-0500
TZOFFSETTO:-0400
TZNAME:EDT
DTSTART:20250309T070000
END:DAYLIGHT
BEGIN:STANDARD
TZOFFSETFROM:-0400
TZOFFSETTO:-0500
TZNAME:EST
DTSTART:20251102T060000
END:STANDARD
BEGIN:DAYLIGHT
TZOFFSETFROM:-0500
TZOFFSETTO:-0400
TZNAME:EDT
DTSTART:20260308T070000
END:DAYLIGHT
BEGIN:STANDARD
TZOFFSETFROM:-0400
TZOFFSETTO:-0500
TZNAME:EST
DTSTART:20261101T060000
END:STANDARD
BEGIN:DAYLIGHT
TZOFFSETFROM:-0500
TZOFFSETTO:-0400
TZNAME:EDT
DTSTART:20270314T070000
END:DAYLIGHT
BEGIN:STANDARD
TZOFFSETFROM:-0400
TZOFFSETTO:-0500
TZNAME:EST
DTSTART:20271107T060000
END:STANDARD
END:VTIMEZONE
BEGIN:VEVENT
DTSTART;TZID=America/New_York:20260527T100000
DTEND;TZID=America/New_York:20260527T103000
DTSTAMP:20260421T110754
CREATED:20260402T045304Z
LAST-MODIFIED:20260402T045348Z
UID:10023808-1779876000-1779877800@lifestyleobx.com
SUMMARY:Butterfly House Release
DESCRIPTION:Experience the magic of butterflies taking flight during the Butterfly Release at The Elizabethan Gardens. Held Wednesdays and Thursdays at 10:00 AM and 2:00 PM (April through September)\, this interactive program allows visitors to watch newly emerged butterflies take their first flight while learning about butterfly life cycles and the plants that attract them to your own garden. Guests can add the experience to their garden admission and enjoy a close-up look at these beautiful pollinators as they are released into the gardens’ butterfly habitat.
URL:https://lifestyleobx.com/event/butterfly-house-release/2026-05-27/
LOCATION:Elizabethan Gardens\, 1411 National Park Dr\, Manteo\, NC\, 27954\, United States
ATTACH;FMTTYPE=image/jpeg:https://lifestyleobx.com/wp-content/uploads/2026/04/butterfly-garden-crop.jpg
GEO:35.9375218;-75.713775
X-APPLE-STRUCTURED-LOCATION;VALUE=URI;X-ADDRESS=Elizabethan Gardens 1411 National Park Dr Manteo NC 27954 United States;X-APPLE-RADIUS=500;X-TITLE=1411 National Park Dr:geo:-75.713775,35.9375218
END:VEVENT
BEGIN:VEVENT
DTSTART;TZID=America/New_York:20260527T100000
DTEND;TZID=America/New_York:20260527T123000
DTSTAMP:20260421T110754
CREATED:20260326T040726Z
LAST-MODIFIED:20260326T040726Z
UID:10023772-1779876000-1779885000@lifestyleobx.com
SUMMARY:Salty Tails of Love Adoption Day
DESCRIPTION:Animal lovers are invited to help local pets find their forever homes at Salty Tails of Love Adoption Day\, happening April 8\, 2026\, from 10:00 AM–12:30 PM at Jockey’s Ridge Crossing in Nags Head. Hosted by Kitty Hawk Kites in partnership with the Outer Banks SPCA/Dare County Animal Shelter\, this heartwarming community event gives visitors the chance to meet adoptable dogs and cats and support animal rescue efforts on the Outer Banks. \nGuests can stop by to adopt a pet\, donate needed supplies\, or learn more about local animal welfare efforts. Donations for the shelter are encouraged\, and purchases of Salty Tails merchandise at Kitty Hawk Kites locations help support the cause—with $1 from each hat or shirt donated to the Outer Banks SPCA. \nWhether you’re hoping to welcome a new furry family member or simply want to support a great cause\, this family-friendly event offers a meaningful way to give back while enjoying a spring morning on the Outer Banks. \nCome to Jockey’s Ridge Crossing to help a furry friend find a fur-ever home on these dates: \n\nApril 8th\nMay 27th\nJune 24th\nJuly 8th\nAugust 26th
URL:https://lifestyleobx.com/event/salty-tails-of-love-adoption-day/2026-05-27/
LOCATION:Jockey’s Ridge Crossing\, 3933 S Croatan Hwy\, Nags Head\, 27959\, United States
ATTACH;FMTTYPE=image/jpeg:https://lifestyleobx.com/wp-content/uploads/2026/03/salt.jpeg
GEO:35.9587047;-75.6252414
X-APPLE-STRUCTURED-LOCATION;VALUE=URI;X-ADDRESS=Jockey’s Ridge Crossing 3933 S Croatan Hwy Nags Head 27959 United States;X-APPLE-RADIUS=500;X-TITLE=3933 S Croatan Hwy:geo:-75.6252414,35.9587047
END:VEVENT
END:VCALENDAR