BEGIN:VCALENDAR
VERSION:2.0
PRODID:-//Lifestyle OBX - ECPv6.15.12.2//NONSGML v1.0//EN
CALSCALE:GREGORIAN
METHOD:PUBLISH
X-WR-CALNAME:Lifestyle OBX
X-ORIGINAL-URL:https://lifestyleobx.com
X-WR-CALDESC:Events for Lifestyle OBX
REFRESH-INTERVAL;VALUE=DURATION:PT1H
X-Robots-Tag:noindex
X-PUBLISHED-TTL:PT1H
BEGIN:VTIMEZONE
TZID:America/New_York
BEGIN:DAYLIGHT
TZOFFSETFROM:-0500
TZOFFSETTO:-0400
TZNAME:EDT
DTSTART:20250309T070000
END:DAYLIGHT
BEGIN:STANDARD
TZOFFSETFROM:-0400
TZOFFSETTO:-0500
TZNAME:EST
DTSTART:20251102T060000
END:STANDARD
BEGIN:DAYLIGHT
TZOFFSETFROM:-0500
TZOFFSETTO:-0400
TZNAME:EDT
DTSTART:20260308T070000
END:DAYLIGHT
BEGIN:STANDARD
TZOFFSETFROM:-0400
TZOFFSETTO:-0500
TZNAME:EST
DTSTART:20261101T060000
END:STANDARD
BEGIN:DAYLIGHT
TZOFFSETFROM:-0500
TZOFFSETTO:-0400
TZNAME:EDT
DTSTART:20270314T070000
END:DAYLIGHT
BEGIN:STANDARD
TZOFFSETFROM:-0400
TZOFFSETTO:-0500
TZNAME:EST
DTSTART:20271107T060000
END:STANDARD
END:VTIMEZONE
BEGIN:VEVENT
DTSTART;TZID=America/New_York:20260606T090000
DTEND;TZID=America/New_York:20260606T110000
DTSTAMP:20260421T140716
CREATED:20260103T043815Z
LAST-MODIFIED:20260129T065107Z
UID:10023316-1780736400-1780743600@lifestyleobx.com
SUMMARY:Alligator River Refuge Tram Tour
DESCRIPTION:Take a trip around the Alligator River Refuge and learn about the wild lands and wildlife. Bring your binoculars and camera! Drinking water and insect repellent are also recommended. The program will proceed\, except in the event of lightning\, heavy wind\, rain\, or impassable road conditions. Dress for the weather! Meet at Creef Cut Wildlife Trail parking lot\, Hwy 64 and Milltail Road\, approximately 6 miles west of Manns Harbor. Call 252-216-9464 for reservations. \nAlligator River Refuge Tram Tour $10 per adult. Children 12 and under are free with one or more paying adults. Reservations required. Tram seating is limited.
URL:https://lifestyleobx.com/event/alligator-river-refuge-tram-tour-2/2026-06-06/
LOCATION:Creef Cut Wildlife Trail\, Creef Cut Trail\, Manns Harbor\, N C\, 27953
ATTACH;FMTTYPE=image/jpeg:https://lifestyleobx.com/wp-content/uploads/2026/01/tram.jpeg
GEO:35.8617928;-75.8567335
X-APPLE-STRUCTURED-LOCATION;VALUE=URI;X-ADDRESS=Creef Cut Wildlife Trail Creef Cut Trail Manns Harbor N C 27953;X-APPLE-RADIUS=500;X-TITLE=Creef Cut Trail:geo:-75.8567335,35.8617928
END:VEVENT
END:VCALENDAR