BEGIN:VCALENDAR
VERSION:2.0
PRODID:-//Lifestyle OBX - ECPv6.15.12.2//NONSGML v1.0//EN
CALSCALE:GREGORIAN
METHOD:PUBLISH
X-WR-CALNAME:Lifestyle OBX
X-ORIGINAL-URL:https://lifestyleobx.com
X-WR-CALDESC:Events for Lifestyle OBX
REFRESH-INTERVAL;VALUE=DURATION:PT1H
X-Robots-Tag:noindex
X-PUBLISHED-TTL:PT1H
BEGIN:VTIMEZONE
TZID:America/New_York
BEGIN:DAYLIGHT
TZOFFSETFROM:-0500
TZOFFSETTO:-0400
TZNAME:EDT
DTSTART:20250309T070000
END:DAYLIGHT
BEGIN:STANDARD
TZOFFSETFROM:-0400
TZOFFSETTO:-0500
TZNAME:EST
DTSTART:20251102T060000
END:STANDARD
BEGIN:DAYLIGHT
TZOFFSETFROM:-0500
TZOFFSETTO:-0400
TZNAME:EDT
DTSTART:20260308T070000
END:DAYLIGHT
BEGIN:STANDARD
TZOFFSETFROM:-0400
TZOFFSETTO:-0500
TZNAME:EST
DTSTART:20261101T060000
END:STANDARD
BEGIN:DAYLIGHT
TZOFFSETFROM:-0500
TZOFFSETTO:-0400
TZNAME:EDT
DTSTART:20270314T070000
END:DAYLIGHT
BEGIN:STANDARD
TZOFFSETFROM:-0400
TZOFFSETTO:-0500
TZNAME:EST
DTSTART:20271107T060000
END:STANDARD
END:VTIMEZONE
BEGIN:VEVENT
DTSTART;TZID=America/New_York:20260625T090000
DTEND;TZID=America/New_York:20260625T130000
DTSTAMP:20260423T071450
CREATED:20260423T050104Z
LAST-MODIFIED:20260423T050104Z
UID:10024344-1782378000-1782392400@lifestyleobx.com
SUMMARY:Dowdy Park Farmer's Markets 2026
DESCRIPTION:The Dowdy Park Summer Market runs from mid-June through mid-August. To maintain a positive experience for vendors and visitors\, the market is intentionally capped at approximately 50 vendors per event\, with limited date overlap. Market dates and capacity are driven by the local school calendar\, as the market has grown to a size that requires the use of the school parking lot for vendor and visitor parking. \n\nThe first market day will be Thursday\, June 11th\, from 9:00 AM to 1:00 PM. Admission is FREE.
URL:https://lifestyleobx.com/event/dowdy-park-farmers-markets-2026/2026-06-25/
LOCATION:Dowdy Park\, 3005 S Croatan Hwy\, Nags Head\, NC\, 27959\, United States
ATTACH;FMTTYPE=image/jpeg:https://lifestyleobx.com/wp-content/uploads/2026/04/dowdy-Summer-Market.jpg
GEO:35.9775504;-75.639584
X-APPLE-STRUCTURED-LOCATION;VALUE=URI;X-ADDRESS=Dowdy Park 3005 S Croatan Hwy Nags Head NC 27959 United States;X-APPLE-RADIUS=500;X-TITLE=3005 S Croatan Hwy:geo:-75.639584,35.9775504
END:VEVENT
BEGIN:VEVENT
DTSTART;TZID=America/New_York:20260625T100000
DTEND;TZID=America/New_York:20260625T103000
DTSTAMP:20260423T071450
CREATED:20260402T045304Z
LAST-MODIFIED:20260402T045348Z
UID:10023817-1782381600-1782383400@lifestyleobx.com
SUMMARY:Butterfly House Release
DESCRIPTION:Experience the magic of butterflies taking flight during the Butterfly Release at The Elizabethan Gardens. Held Wednesdays and Thursdays at 10:00 AM and 2:00 PM (April through September)\, this interactive program allows visitors to watch newly emerged butterflies take their first flight while learning about butterfly life cycles and the plants that attract them to your own garden. Guests can add the experience to their garden admission and enjoy a close-up look at these beautiful pollinators as they are released into the gardens’ butterfly habitat.
URL:https://lifestyleobx.com/event/butterfly-house-release/2026-06-25/
LOCATION:Elizabethan Gardens\, 1411 National Park Dr\, Manteo\, NC\, 27954\, United States
ATTACH;FMTTYPE=image/jpeg:https://lifestyleobx.com/wp-content/uploads/2026/04/butterfly-garden-crop.jpg
GEO:35.9375218;-75.713775
X-APPLE-STRUCTURED-LOCATION;VALUE=URI;X-ADDRESS=Elizabethan Gardens 1411 National Park Dr Manteo NC 27954 United States;X-APPLE-RADIUS=500;X-TITLE=1411 National Park Dr:geo:-75.713775,35.9375218
END:VEVENT
END:VCALENDAR