BEGIN:VCALENDAR
VERSION:2.0
PRODID:-//Lifestyle OBX - ECPv6.15.12.2//NONSGML v1.0//EN
CALSCALE:GREGORIAN
METHOD:PUBLISH
X-ORIGINAL-URL:https://lifestyleobx.com
X-WR-CALDESC:Events for Lifestyle OBX
REFRESH-INTERVAL;VALUE=DURATION:PT1H
X-Robots-Tag:noindex
X-PUBLISHED-TTL:PT1H
BEGIN:VTIMEZONE
TZID:America/New_York
BEGIN:DAYLIGHT
TZOFFSETFROM:-0500
TZOFFSETTO:-0400
TZNAME:EDT
DTSTART:20250309T070000
END:DAYLIGHT
BEGIN:STANDARD
TZOFFSETFROM:-0400
TZOFFSETTO:-0500
TZNAME:EST
DTSTART:20251102T060000
END:STANDARD
BEGIN:DAYLIGHT
TZOFFSETFROM:-0500
TZOFFSETTO:-0400
TZNAME:EDT
DTSTART:20260308T070000
END:DAYLIGHT
BEGIN:STANDARD
TZOFFSETFROM:-0400
TZOFFSETTO:-0500
TZNAME:EST
DTSTART:20261101T060000
END:STANDARD
BEGIN:DAYLIGHT
TZOFFSETFROM:-0500
TZOFFSETTO:-0400
TZNAME:EDT
DTSTART:20270314T070000
END:DAYLIGHT
BEGIN:STANDARD
TZOFFSETFROM:-0400
TZOFFSETTO:-0500
TZNAME:EST
DTSTART:20271107T060000
END:STANDARD
END:VTIMEZONE
BEGIN:VEVENT
DTSTART;TZID=America/New_York:20260703T180000
DTEND;TZID=America/New_York:20260703T200000
DTSTAMP:20260421T160313
CREATED:20260305T160941Z
LAST-MODIFIED:20260305T160941Z
UID:10023729-1783101600-1783108800@lifestyleobx.com
SUMMARY:First Fridays in Downtown Manteo
DESCRIPTION:Friday\, March 6\, kicks off the 2026 First Friday season in downtown Manteo. We will have Joe Mapp playing live music on the front porch of the Gallery starting at 6:00 pm. \nThere will also be live music by The Conch Shells at Poor Richard’s\, The Bar Cats Duo at NouVines\, and DJ Night at Lost Colony Brewery. \nThe First Friday Manteo Stroll\, where restaurants and shops in downtown Manteo stay open late with specials\, live music\, sales\, and events at their locations\, will also be happening from 6:00pm to 8:00pm.
URL:https://lifestyleobx.com/event/first-fridays-in-downtown-manteo/2026-07-03/
LOCATION:Downtown Manteo\, Downtown Manteo\, Manteo\, NC\, 27954\, United States
ATTACH;FMTTYPE=image/jpeg:https://lifestyleobx.com/wp-content/uploads/2026/03/first-friday.jpg
GEO:35.9082256;-75.6757302
X-APPLE-STRUCTURED-LOCATION;VALUE=URI;X-ADDRESS=Downtown Manteo Downtown Manteo Manteo NC 27954 United States;X-APPLE-RADIUS=500;X-TITLE=Downtown Manteo:geo:-75.6757302,35.9082256
END:VEVENT
END:VCALENDAR