BEGIN:VCALENDAR
VERSION:2.0
PRODID:-//Lifestyle OBX - ECPv6.15.12.2//NONSGML v1.0//EN
CALSCALE:GREGORIAN
METHOD:PUBLISH
X-WR-CALNAME:Lifestyle OBX
X-ORIGINAL-URL:https://lifestyleobx.com
X-WR-CALDESC:Events for Lifestyle OBX
REFRESH-INTERVAL;VALUE=DURATION:PT1H
X-Robots-Tag:noindex
X-PUBLISHED-TTL:PT1H
BEGIN:VTIMEZONE
TZID:America/New_York
BEGIN:DAYLIGHT
TZOFFSETFROM:-0500
TZOFFSETTO:-0400
TZNAME:EDT
DTSTART:20250309T070000
END:DAYLIGHT
BEGIN:STANDARD
TZOFFSETFROM:-0400
TZOFFSETTO:-0500
TZNAME:EST
DTSTART:20251102T060000
END:STANDARD
BEGIN:DAYLIGHT
TZOFFSETFROM:-0500
TZOFFSETTO:-0400
TZNAME:EDT
DTSTART:20260308T070000
END:DAYLIGHT
BEGIN:STANDARD
TZOFFSETFROM:-0400
TZOFFSETTO:-0500
TZNAME:EST
DTSTART:20261101T060000
END:STANDARD
BEGIN:DAYLIGHT
TZOFFSETFROM:-0500
TZOFFSETTO:-0400
TZNAME:EDT
DTSTART:20270314T070000
END:DAYLIGHT
BEGIN:STANDARD
TZOFFSETFROM:-0400
TZOFFSETTO:-0500
TZNAME:EST
DTSTART:20271107T060000
END:STANDARD
END:VTIMEZONE
BEGIN:VEVENT
DTSTART;TZID=America/New_York:20260131T190000
DTEND;TZID=America/New_York:20260131T220000
DTSTAMP:20260419T161120
CREATED:20260108T065800Z
LAST-MODIFIED:20260129T021622Z
UID:10023192-1769886000-1769896800@lifestyleobx.com
SUMMARY:OBX Got Talent : Season 3 Rounds
DESCRIPTION:Think you’ve got talent—or just love cheering on local performers? OBX Got Talent returns for Season 3 at The Pioneer Theater in downtown Manteo. Live performance rounds begin January 31\, continue February 21\, and wrap up with the finale on March 21\, all at 7 p.m. Tickets are available through The Pioneer Theater box office and online. Come show your talent or warm a seat and support local stars. \nPay attention to the weather as performances may be rescheduled due to winter storm events.
URL:https://lifestyleobx.com/event/obx-got-talent-season-3-auditions-shows/2026-01-31/
LOCATION:The Pioneer Theater\, 113 Budleigh Street\, Manteo\, 27954\, United States
ATTACH;FMTTYPE=image/jpeg:https://lifestyleobx.com/wp-content/uploads/2026/01/OBX-Got-Talent.jpg
GEO:35.910123;-75.6704011
X-APPLE-STRUCTURED-LOCATION;VALUE=URI;X-ADDRESS=The Pioneer Theater 113 Budleigh Street Manteo 27954 United States;X-APPLE-RADIUS=500;X-TITLE=113 Budleigh Street:geo:-75.6704011,35.910123
END:VEVENT
BEGIN:VEVENT
DTSTART;TZID=America/New_York:20260202T090000
DTEND;TZID=America/New_York:20260202T163000
DTSTAMP:20260419T161120
CREATED:20260122T072618Z
LAST-MODIFIED:20260402T051138Z
UID:10023204-1770022800-1770049800@lifestyleobx.com
SUMMARY:Rotating Art Show: Golden Hour by Robyn Scott
DESCRIPTION:Rotating Art Show: Golden Hour by Robyn Scott \nExhibit Dates:\nJanuary 30 – April 23\, 2026\nOn Display: Monday–Friday\, 9:00 AM – 4:30 PM \nOpening Reception:\nSaturday\, January 31\, 2026\n3:00 PM – 5:00 PM\nMeet the artist\, enjoy refreshments\, and celebrate coastal-inspired art! \nLocation:\nDuck Town Hall – First Floor Conference Room\n1200 Duck Road\nDuck\, NC 27949 \nGolden Hour is a love letter to the Carolina coast\, where the light hits Mother Earth with a gentle glow leading into the peaceful night sky. This collection is meant to celebrate the warm hug offered by our beautiful ocean as we drive up and down the coastal roads\, exploring the many beaches and seaside shops. Many of the works feature scenes from Corolla\, in particular some of my favorite hidden soundside spots and stretches of the beach in the offseason. \nRobyn Scott is a former K-8 art teacher and visual artist. She loves exploring how paint can express joy\, imagination\, and the beauty of natural spaces while working with bright color palettes that amplify the radiant hues of the Carolinas. She paints using acrylics on canvas\, focusing on layering and color blocking techniques to achieve a vibrant effect\, adding a touch of glitter here and there. She also works in fibers\, mixed media\, and pen and ink. Robyn has shown her work at venues such as the Imperial Centre for Arts & Science in Rocky Mount.
URL:https://lifestyleobx.com/event/rotating-art-show-golden-hour-by-robyn-scott/2026-02-02/
LOCATION:Duck Town Hall\, 1200 Duck Rd\, Duck\, 27949\, United States
ATTACH;FMTTYPE=application/pdf:https://lifestyleobx.com/wp-content/uploads/2026/01/Rotating_Art_Show_Opening_Reception_Flyer.pdf
GEO:36.1650759;-75.7536377
X-APPLE-STRUCTURED-LOCATION;VALUE=URI;X-ADDRESS=Duck Town Hall 1200 Duck Rd Duck 27949 United States;X-APPLE-RADIUS=500;X-TITLE=1200 Duck Rd:geo:-75.7536377,36.1650759
END:VEVENT
BEGIN:VEVENT
DTSTART;TZID=America/New_York:20260202T100000
DTEND;TZID=America/New_York:20260202T170000
DTSTAMP:20260419T161120
CREATED:20260129T030744Z
LAST-MODIFIED:20260205T062011Z
UID:10023651-1770026400-1770051600@lifestyleobx.com
SUMMARY:Animals in Art Show 2026
DESCRIPTION:Come to the Animals in Art opening reception at Seaside Art Gallery on February 5 from 5–7 p.m. Sip\, stroll\, and enjoy incredible artwork created in support of needy animals. A portion (10%) of each sale benefits the OBX Coastal Humane Society. This event is FREE and open to the public. \n\nEvery purchase helps support working artists in the community.\n\n\nOpening Reception: Thursday\, February 5\, from 5–7 pm\nExhibition Dates: February 2–28\, Monday – Saturday 10 am – 5 pm\n\n\n\n\n\nSeaside Art Gallery\n2716 S. Virginia Dare Trail\, Nags Head\, NC\n\nThe Animals in Art show runs February 2–28\, at Seaside Art Gallery\, giving you plenty of time to explore the collection and find a piece that speaks to you. Ten percent of all art sales benefit Coastal Humane Society\, supporting programs that help pets stay healthy\, safe\, and with the families who love them \nCome for the reception\, stay for the art\, and help make a difference one beautiful piece of art at a time!
URL:https://lifestyleobx.com/event/animals-in-art-show-2026/2026-02-02/
LOCATION:Seaside Art Gallery\, South Virginia Dare Trail\, Kill Devil Hills\, NC\, 27948\, United States
ATTACH;FMTTYPE=image/jpeg:https://lifestyleobx.com/wp-content/uploads/2026/01/Animals-in-art.jpg
GEO:35.982262;-75.6387185
X-APPLE-STRUCTURED-LOCATION;VALUE=URI;X-ADDRESS=Seaside Art Gallery South Virginia Dare Trail Kill Devil Hills NC 27948 United States;X-APPLE-RADIUS=500;X-TITLE=South Virginia Dare Trail:geo:-75.6387185,35.982262
END:VEVENT
BEGIN:VEVENT
DTSTART;TZID=America/New_York:20260202T190000
DTEND;TZID=America/New_York:20260202T210000
DTSTAMP:20260419T161120
CREATED:20260108T063056Z
LAST-MODIFIED:20260108T063056Z
UID:10023181-1770058800-1770066000@lifestyleobx.com
SUMMARY:OBX Waterways: A Virtual Tour from the Boater's Perspective
DESCRIPTION:This 2-hour Zoom seminar offers new and less-experienced boaters a guided virtual tour of the Outer Banks waterways from a boater’s perspective. Using OpenCPN navigation software and Google Earth\, participants will “fly over” the OBX from north to south\, exploring sounds\, rivers\, channels\, marinas\, and key points of interest including important navigation hazards. \nThe seminar covers practical questions such as where to launch\, fuel up\, dock\, swim\, shop\, eat\, sightsee\, and fish\, helping boaters gain confidence and familiarity before heading out on the water. \nRegister online at event website.
URL:https://lifestyleobx.com/event/obx-waterways-a-virtual-tour-from-the-boaters-perspective/2026-02-02/
ATTACH;FMTTYPE=image/jpeg:https://lifestyleobx.com/wp-content/uploads/2026/01/waterways.jpg
END:VEVENT
BEGIN:VEVENT
DTSTART;TZID=America/New_York:20260203T090000
DTEND;TZID=America/New_York:20260203T163000
DTSTAMP:20260419T161120
CREATED:20260122T072618Z
LAST-MODIFIED:20260402T051138Z
UID:10023205-1770109200-1770136200@lifestyleobx.com
SUMMARY:Rotating Art Show: Golden Hour by Robyn Scott
DESCRIPTION:Rotating Art Show: Golden Hour by Robyn Scott \nExhibit Dates:\nJanuary 30 – April 23\, 2026\nOn Display: Monday–Friday\, 9:00 AM – 4:30 PM \nOpening Reception:\nSaturday\, January 31\, 2026\n3:00 PM – 5:00 PM\nMeet the artist\, enjoy refreshments\, and celebrate coastal-inspired art! \nLocation:\nDuck Town Hall – First Floor Conference Room\n1200 Duck Road\nDuck\, NC 27949 \nGolden Hour is a love letter to the Carolina coast\, where the light hits Mother Earth with a gentle glow leading into the peaceful night sky. This collection is meant to celebrate the warm hug offered by our beautiful ocean as we drive up and down the coastal roads\, exploring the many beaches and seaside shops. Many of the works feature scenes from Corolla\, in particular some of my favorite hidden soundside spots and stretches of the beach in the offseason. \nRobyn Scott is a former K-8 art teacher and visual artist. She loves exploring how paint can express joy\, imagination\, and the beauty of natural spaces while working with bright color palettes that amplify the radiant hues of the Carolinas. She paints using acrylics on canvas\, focusing on layering and color blocking techniques to achieve a vibrant effect\, adding a touch of glitter here and there. She also works in fibers\, mixed media\, and pen and ink. Robyn has shown her work at venues such as the Imperial Centre for Arts & Science in Rocky Mount.
URL:https://lifestyleobx.com/event/rotating-art-show-golden-hour-by-robyn-scott/2026-02-03/
LOCATION:Duck Town Hall\, 1200 Duck Rd\, Duck\, 27949\, United States
ATTACH;FMTTYPE=application/pdf:https://lifestyleobx.com/wp-content/uploads/2026/01/Rotating_Art_Show_Opening_Reception_Flyer.pdf
GEO:36.1650759;-75.7536377
X-APPLE-STRUCTURED-LOCATION;VALUE=URI;X-ADDRESS=Duck Town Hall 1200 Duck Rd Duck 27949 United States;X-APPLE-RADIUS=500;X-TITLE=1200 Duck Rd:geo:-75.7536377,36.1650759
END:VEVENT
BEGIN:VEVENT
DTSTART;TZID=America/New_York:20260203T100000
DTEND;TZID=America/New_York:20260203T170000
DTSTAMP:20260419T161120
CREATED:20260129T030744Z
LAST-MODIFIED:20260205T062011Z
UID:10023652-1770112800-1770138000@lifestyleobx.com
SUMMARY:Animals in Art Show 2026
DESCRIPTION:Come to the Animals in Art opening reception at Seaside Art Gallery on February 5 from 5–7 p.m. Sip\, stroll\, and enjoy incredible artwork created in support of needy animals. A portion (10%) of each sale benefits the OBX Coastal Humane Society. This event is FREE and open to the public. \n\nEvery purchase helps support working artists in the community.\n\n\nOpening Reception: Thursday\, February 5\, from 5–7 pm\nExhibition Dates: February 2–28\, Monday – Saturday 10 am – 5 pm\n\n\n\n\n\nSeaside Art Gallery\n2716 S. Virginia Dare Trail\, Nags Head\, NC\n\nThe Animals in Art show runs February 2–28\, at Seaside Art Gallery\, giving you plenty of time to explore the collection and find a piece that speaks to you. Ten percent of all art sales benefit Coastal Humane Society\, supporting programs that help pets stay healthy\, safe\, and with the families who love them \nCome for the reception\, stay for the art\, and help make a difference one beautiful piece of art at a time!
URL:https://lifestyleobx.com/event/animals-in-art-show-2026/2026-02-03/
LOCATION:Seaside Art Gallery\, South Virginia Dare Trail\, Kill Devil Hills\, NC\, 27948\, United States
ATTACH;FMTTYPE=image/jpeg:https://lifestyleobx.com/wp-content/uploads/2026/01/Animals-in-art.jpg
GEO:35.982262;-75.6387185
X-APPLE-STRUCTURED-LOCATION;VALUE=URI;X-ADDRESS=Seaside Art Gallery South Virginia Dare Trail Kill Devil Hills NC 27948 United States;X-APPLE-RADIUS=500;X-TITLE=South Virginia Dare Trail:geo:-75.6387185,35.982262
END:VEVENT
BEGIN:VEVENT
DTSTART;TZID=America/New_York:20260203T180000
DTEND;TZID=America/New_York:20260203T200000
DTSTAMP:20260419T161120
CREATED:20260108T055239Z
LAST-MODIFIED:20260108T055239Z
UID:10022923-1770141600-1770148800@lifestyleobx.com
SUMMARY:KDDB New Skater Night
DESCRIPTION:New to roller skating or curious about roller derby? The Kill Devil Derby Brigade hosts New Skater Night on the first Tuesday of every month\, offering a fun\, welcoming introduction to skating basics in a non-contact setting. Sessions run from 6–8 p.m. at Aviation Skate Park in Kill Devil Hills. Full safety gear is required\, and loaner gear may be available. No experience needed\, just a positive\, resilient attitude and a willingness to learn.
URL:https://lifestyleobx.com/event/kddb-new-skater-night/2026-02-03/
LOCATION:Aviation skatepark\, 109 Veterans Dr\, Kill Devil Hills\, NC\, 27948\, United States
ATTACH;FMTTYPE=image/jpeg:https://lifestyleobx.com/wp-content/uploads/2026/01/KDDB.jpg
GEO:36.002468;-75.6703246
X-APPLE-STRUCTURED-LOCATION;VALUE=URI;X-ADDRESS=Aviation skatepark 109 Veterans Dr Kill Devil Hills NC 27948 United States;X-APPLE-RADIUS=500;X-TITLE=109 Veterans Dr:geo:-75.6703246,36.002468
END:VEVENT
END:VCALENDAR