BEGIN:VCALENDAR
VERSION:2.0
PRODID:-//Lifestyle OBX - ECPv6.15.12.2//NONSGML v1.0//EN
CALSCALE:GREGORIAN
METHOD:PUBLISH
X-WR-CALNAME:Lifestyle OBX
X-ORIGINAL-URL:https://lifestyleobx.com
X-WR-CALDESC:Events for Lifestyle OBX
REFRESH-INTERVAL;VALUE=DURATION:PT1H
X-Robots-Tag:noindex
X-PUBLISHED-TTL:PT1H
BEGIN:VTIMEZONE
TZID:America/New_York
BEGIN:DAYLIGHT
TZOFFSETFROM:-0500
TZOFFSETTO:-0400
TZNAME:EDT
DTSTART:20250309T070000
END:DAYLIGHT
BEGIN:STANDARD
TZOFFSETFROM:-0400
TZOFFSETTO:-0500
TZNAME:EST
DTSTART:20251102T060000
END:STANDARD
BEGIN:DAYLIGHT
TZOFFSETFROM:-0500
TZOFFSETTO:-0400
TZNAME:EDT
DTSTART:20260308T070000
END:DAYLIGHT
BEGIN:STANDARD
TZOFFSETFROM:-0400
TZOFFSETTO:-0500
TZNAME:EST
DTSTART:20261101T060000
END:STANDARD
BEGIN:DAYLIGHT
TZOFFSETFROM:-0500
TZOFFSETTO:-0400
TZNAME:EDT
DTSTART:20270314T070000
END:DAYLIGHT
BEGIN:STANDARD
TZOFFSETFROM:-0400
TZOFFSETTO:-0500
TZNAME:EST
DTSTART:20271107T060000
END:STANDARD
END:VTIMEZONE
BEGIN:VEVENT
DTSTART;TZID=America/New_York:20260714T180000
DTEND;TZID=America/New_York:20260714T200000
DTSTAMP:20260425T161053
CREATED:20260108T055239Z
LAST-MODIFIED:20260108T055239Z
UID:10022946-1784052000-1784059200@lifestyleobx.com
SUMMARY:KDDB New Skater Night
DESCRIPTION:New to roller skating or curious about roller derby? The Kill Devil Derby Brigade hosts New Skater Night on the first Tuesday of every month\, offering a fun\, welcoming introduction to skating basics in a non-contact setting. Sessions run from 6–8 p.m. at Aviation Skate Park in Kill Devil Hills. Full safety gear is required\, and loaner gear may be available. No experience needed\, just a positive\, resilient attitude and a willingness to learn.
URL:https://lifestyleobx.com/event/kddb-new-skater-night/2026-07-14/
LOCATION:Aviation skatepark\, 109 Veterans Dr\, Kill Devil Hills\, NC\, 27948\, United States
ATTACH;FMTTYPE=image/jpeg:https://lifestyleobx.com/wp-content/uploads/2026/01/KDDB.jpg
GEO:36.002468;-75.6703246
X-APPLE-STRUCTURED-LOCATION;VALUE=URI;X-ADDRESS=Aviation skatepark 109 Veterans Dr Kill Devil Hills NC 27948 United States;X-APPLE-RADIUS=500;X-TITLE=109 Veterans Dr:geo:-75.6703246,36.002468
END:VEVENT
BEGIN:VEVENT
DTSTART;TZID=America/New_York:20260715T100000
DTEND;TZID=America/New_York:20260715T103000
DTSTAMP:20260425T161053
CREATED:20260402T045304Z
LAST-MODIFIED:20260402T045348Z
UID:10023822-1784109600-1784111400@lifestyleobx.com
SUMMARY:Butterfly House Release
DESCRIPTION:Experience the magic of butterflies taking flight during the Butterfly Release at The Elizabethan Gardens. Held Wednesdays and Thursdays at 10:00 AM and 2:00 PM (April through September)\, this interactive program allows visitors to watch newly emerged butterflies take their first flight while learning about butterfly life cycles and the plants that attract them to your own garden. Guests can add the experience to their garden admission and enjoy a close-up look at these beautiful pollinators as they are released into the gardens’ butterfly habitat.
URL:https://lifestyleobx.com/event/butterfly-house-release/2026-07-15/
LOCATION:Elizabethan Gardens\, 1411 National Park Dr\, Manteo\, NC\, 27954\, United States
ATTACH;FMTTYPE=image/jpeg:https://lifestyleobx.com/wp-content/uploads/2026/04/butterfly-garden-crop.jpg
GEO:35.9375218;-75.713775
X-APPLE-STRUCTURED-LOCATION;VALUE=URI;X-ADDRESS=Elizabethan Gardens 1411 National Park Dr Manteo NC 27954 United States;X-APPLE-RADIUS=500;X-TITLE=1411 National Park Dr:geo:-75.713775,35.9375218
END:VEVENT
BEGIN:VEVENT
DTSTART;TZID=America/New_York:20260715T140000
DTEND;TZID=America/New_York:20260715T150000
DTSTAMP:20260425T161053
CREATED:20260305T054755Z
LAST-MODIFIED:20260305T054755Z
UID:10023702-1784124000-1784127600@lifestyleobx.com
SUMMARY:Dancing and Drumming with Thunder and E Nah Dah of the Eastern Band of Cherokee
DESCRIPTION:Dancing & Drumming at the Frisco Native American Museum invites visitors to experience the rhythm and movement of Native American cultural traditions. During this interactive program\, Pow Wow head dancers Thunder and E Nah Dah of the Eastern Band of Cherokee demonstrate traditional dances while explaining their cultural meaning and the importance of drumming—often called the “heartbeat of the Earth.” Guests are encouraged to join in social dances\, offering a hands-on opportunity to celebrate and learn about this vibrant tradition. The family-friendly event is FREE open to all ages\, and included with museum admission.
URL:https://lifestyleobx.com/event/dancing-and-drumming-with-thunder-and-e-nah-dah-of-the-eastern-band-of-cherokee/
LOCATION:Frisco Native American Museum\, North Carolina Highway 12\, Frisco\, NC\, 27936\, United States
ATTACH;FMTTYPE=image/png:https://lifestyleobx.com/wp-content/uploads/2026/03/Image-3-5-26-at-12.40-AM.png
GEO:35.2344953;-75.6247543
X-APPLE-STRUCTURED-LOCATION;VALUE=URI;X-ADDRESS=Frisco Native American Museum North Carolina Highway 12 Frisco NC 27936 United States;X-APPLE-RADIUS=500;X-TITLE=North Carolina Highway 12:geo:-75.6247543,35.2344953
END:VEVENT
BEGIN:VEVENT
DTSTART;TZID=America/New_York:20260716T090000
DTEND;TZID=America/New_York:20260716T130000
DTSTAMP:20260425T161053
CREATED:20260423T050104Z
LAST-MODIFIED:20260423T050104Z
UID:10024347-1784192400-1784206800@lifestyleobx.com
SUMMARY:Dowdy Park Farmer's Markets 2026
DESCRIPTION:The Dowdy Park Summer Market runs from mid-June through mid-August. To maintain a positive experience for vendors and visitors\, the market is intentionally capped at approximately 50 vendors per event\, with limited date overlap. Market dates and capacity are driven by the local school calendar\, as the market has grown to a size that requires the use of the school parking lot for vendor and visitor parking. \n\nThe first market day will be Thursday\, June 11th\, from 9:00 AM to 1:00 PM. Admission is FREE.
URL:https://lifestyleobx.com/event/dowdy-park-farmers-markets-2026/2026-07-16/
LOCATION:Dowdy Park\, 3005 S Croatan Hwy\, Nags Head\, NC\, 27959\, United States
ATTACH;FMTTYPE=image/jpeg:https://lifestyleobx.com/wp-content/uploads/2026/04/dowdy-Summer-Market.jpg
GEO:35.9775504;-75.639584
X-APPLE-STRUCTURED-LOCATION;VALUE=URI;X-ADDRESS=Dowdy Park 3005 S Croatan Hwy Nags Head NC 27959 United States;X-APPLE-RADIUS=500;X-TITLE=3005 S Croatan Hwy:geo:-75.639584,35.9775504
END:VEVENT
BEGIN:VEVENT
DTSTART;TZID=America/New_York:20260716T100000
DTEND;TZID=America/New_York:20260716T103000
DTSTAMP:20260425T161053
CREATED:20260402T045304Z
LAST-MODIFIED:20260402T045348Z
UID:10023823-1784196000-1784197800@lifestyleobx.com
SUMMARY:Butterfly House Release
DESCRIPTION:Experience the magic of butterflies taking flight during the Butterfly Release at The Elizabethan Gardens. Held Wednesdays and Thursdays at 10:00 AM and 2:00 PM (April through September)\, this interactive program allows visitors to watch newly emerged butterflies take their first flight while learning about butterfly life cycles and the plants that attract them to your own garden. Guests can add the experience to their garden admission and enjoy a close-up look at these beautiful pollinators as they are released into the gardens’ butterfly habitat.
URL:https://lifestyleobx.com/event/butterfly-house-release/2026-07-16/
LOCATION:Elizabethan Gardens\, 1411 National Park Dr\, Manteo\, NC\, 27954\, United States
ATTACH;FMTTYPE=image/jpeg:https://lifestyleobx.com/wp-content/uploads/2026/04/butterfly-garden-crop.jpg
GEO:35.9375218;-75.713775
X-APPLE-STRUCTURED-LOCATION;VALUE=URI;X-ADDRESS=Elizabethan Gardens 1411 National Park Dr Manteo NC 27954 United States;X-APPLE-RADIUS=500;X-TITLE=1411 National Park Dr:geo:-75.713775,35.9375218
END:VEVENT
END:VCALENDAR