BEGIN:VCALENDAR
VERSION:2.0
PRODID:-//Lifestyle OBX - ECPv6.15.12.2//NONSGML v1.0//EN
CALSCALE:GREGORIAN
METHOD:PUBLISH
X-WR-CALNAME:Lifestyle OBX
X-ORIGINAL-URL:https://lifestyleobx.com
X-WR-CALDESC:Events for Lifestyle OBX
REFRESH-INTERVAL;VALUE=DURATION:PT1H
X-Robots-Tag:noindex
X-PUBLISHED-TTL:PT1H
BEGIN:VTIMEZONE
TZID:America/New_York
BEGIN:DAYLIGHT
TZOFFSETFROM:-0500
TZOFFSETTO:-0400
TZNAME:EDT
DTSTART:20250309T070000
END:DAYLIGHT
BEGIN:STANDARD
TZOFFSETFROM:-0400
TZOFFSETTO:-0500
TZNAME:EST
DTSTART:20251102T060000
END:STANDARD
BEGIN:DAYLIGHT
TZOFFSETFROM:-0500
TZOFFSETTO:-0400
TZNAME:EDT
DTSTART:20260308T070000
END:DAYLIGHT
BEGIN:STANDARD
TZOFFSETFROM:-0400
TZOFFSETTO:-0500
TZNAME:EST
DTSTART:20261101T060000
END:STANDARD
BEGIN:DAYLIGHT
TZOFFSETFROM:-0500
TZOFFSETTO:-0400
TZNAME:EDT
DTSTART:20270314T070000
END:DAYLIGHT
BEGIN:STANDARD
TZOFFSETFROM:-0400
TZOFFSETTO:-0500
TZNAME:EST
DTSTART:20271107T060000
END:STANDARD
END:VTIMEZONE
BEGIN:VEVENT
DTSTART;TZID=America/New_York:20260218T140000
DTEND;TZID=America/New_York:20260218T160000
DTSTAMP:20260422T092617
CREATED:20260129T010824Z
LAST-MODIFIED:20260129T010824Z
UID:10023265-1771423200-1771430400@lifestyleobx.com
SUMMARY:Power of Art Expressions: Kinusaiga Japanese Textile Art
DESCRIPTION:The Dare Arts February Expressions Workshop will be held on Wednesday\, February 18 from 2:00pm to 4:00pm at the Cowell Cancer Center in Nags Head. This workshop is FREE to cancer patients\, cancer survivors\, and/or their caregivers. Pre-registration is required so that the instructor can plan for supplies. You can register on the event website or call Dare Arts at 252-473-5558. \nArtist Holly Gottenborg will introduce participants to Kinusaiga\, a Japanese textile art form where colorful fabric scraps are pressed into carved surfaces to create beautiful\, no-sew\, textured images. This gentle\, hands-on workshop offers a space to slow down\, create\, and connect through art. No experience necessary. \nThanks to a Community Benefit Grant from Outer Banks Health\, this workshop is free for cancer survivors\, patients and their caregivers\, and all supplies are included. \n 
URL:https://lifestyleobx.com/event/power-of-art-expressions-kinusaiga-japanese-textile-art/
LOCATION:Cowell Cancer Center\, South Croatan Highway\, Nags Head\, NC\, 27959\, United States
ATTACH;FMTTYPE=image/jpeg:https://lifestyleobx.com/wp-content/uploads/2026/01/Power.jpg
GEO:35.939087;-75.6151463
X-APPLE-STRUCTURED-LOCATION;VALUE=URI;X-ADDRESS=Cowell Cancer Center South Croatan Highway Nags Head NC 27959 United States;X-APPLE-RADIUS=500;X-TITLE=South Croatan Highway:geo:-75.6151463,35.939087
END:VEVENT
END:VCALENDAR