BEGIN:VCALENDAR
VERSION:2.0
PRODID:-//Lifestyle OBX - ECPv6.15.12.2//NONSGML v1.0//EN
CALSCALE:GREGORIAN
METHOD:PUBLISH
X-ORIGINAL-URL:https://lifestyleobx.com
X-WR-CALDESC:Events for Lifestyle OBX
REFRESH-INTERVAL;VALUE=DURATION:PT1H
X-Robots-Tag:noindex
X-PUBLISHED-TTL:PT1H
BEGIN:VTIMEZONE
TZID:America/New_York
BEGIN:DAYLIGHT
TZOFFSETFROM:-0500
TZOFFSETTO:-0400
TZNAME:EDT
DTSTART:20250309T070000
END:DAYLIGHT
BEGIN:STANDARD
TZOFFSETFROM:-0400
TZOFFSETTO:-0500
TZNAME:EST
DTSTART:20251102T060000
END:STANDARD
BEGIN:DAYLIGHT
TZOFFSETFROM:-0500
TZOFFSETTO:-0400
TZNAME:EDT
DTSTART:20260308T070000
END:DAYLIGHT
BEGIN:STANDARD
TZOFFSETFROM:-0400
TZOFFSETTO:-0500
TZNAME:EST
DTSTART:20261101T060000
END:STANDARD
BEGIN:DAYLIGHT
TZOFFSETFROM:-0500
TZOFFSETTO:-0400
TZNAME:EDT
DTSTART:20270314T070000
END:DAYLIGHT
BEGIN:STANDARD
TZOFFSETFROM:-0400
TZOFFSETTO:-0500
TZNAME:EST
DTSTART:20271107T060000
END:STANDARD
END:VTIMEZONE
BEGIN:VEVENT
DTSTART;TZID=America/New_York:20260421T100000
DTEND;TZID=America/New_York:20260421T113000
DTSTAMP:20260423T061215
CREATED:20260312T030144Z
LAST-MODIFIED:20260312T030256Z
UID:10023743-1776765600-1776771000@lifestyleobx.com
SUMMARY:Kayak the Sound
DESCRIPTION:Experience the waters of the Outer Banks during Kayak the Sound\, a guided paddling program at Jockey’s Ridge State Park. Join Ranger Austin for a peaceful morning paddle on the Roanoke Sound\, where participants will explore the aquatic side of the park while learning about local ecology\, wildlife\, and the natural and cultural history of the area. \nAll kayaking equipment and instruction will be provided\, making this program great for beginners and experienced paddlers alike. The minimum participant age is 8 years old\, and children under 13 must paddle with an adult (18 or older). \nPre-registration is required.To sign up\, email austin.paul@ncparks.gov with the names of all participants\, ages\, and a contact phone number. \nPlease arrive at least 10 minutes early before the program begins. \nLocation: 330 W Soundside Road\, Nags Head\, NC 27959Host: Jockey’s Ridge State Park
URL:https://lifestyleobx.com/event/kayak-the-sound/
LOCATION:Jockey’s Ridge State Park\, 300 W Carolista Dr\, Nags Head\, NC\, 27959\, United States
ATTACH;FMTTYPE=image/jpeg:https://lifestyleobx.com/wp-content/uploads/2026/03/kayak.jpg
GEO:35.9638391;-75.6329535
X-APPLE-STRUCTURED-LOCATION;VALUE=URI;X-ADDRESS=Jockey’s Ridge State Park 300 W Carolista Dr Nags Head NC 27959 United States;X-APPLE-RADIUS=500;X-TITLE=300 W Carolista Dr:geo:-75.6329535,35.9638391
END:VEVENT
BEGIN:VEVENT
DTSTART;TZID=America/New_York:20260131T170000
DTEND;TZID=America/New_York:20260131T190000
DTSTAMP:20260423T061215
CREATED:20260103T035141Z
LAST-MODIFIED:20260103T035141Z
UID:10022853-1769878800-1769886000@lifestyleobx.com
SUMMARY:In the Park After Dark
DESCRIPTION:Explore the park after dark with Ranger Austin!  Take advantage of this unique experience while hearing why Jockey’s Ridge is one of North Carolina’s most treasured natural areas.  Registration is required in advance.  See the event website for details. Meet at the pavilion beside the park’s visitor center.
URL:https://lifestyleobx.com/event/in-the-park-after-dark/
LOCATION:Jockey’s Ridge State Park\, 300 W Carolista Dr\, Nags Head\, NC\, 27959\, United States
ATTACH;FMTTYPE=image/jpeg:https://lifestyleobx.com/wp-content/uploads/2026/01/park-at-dark.jpg
GEO:35.9638391;-75.6329535
X-APPLE-STRUCTURED-LOCATION;VALUE=URI;X-ADDRESS=Jockey’s Ridge State Park 300 W Carolista Dr Nags Head NC 27959 United States;X-APPLE-RADIUS=500;X-TITLE=300 W Carolista Dr:geo:-75.6329535,35.9638391
END:VEVENT
END:VCALENDAR