BEGIN:VCALENDAR
VERSION:2.0
PRODID:-//Lifestyle OBX - ECPv6.15.12.2//NONSGML v1.0//EN
CALSCALE:GREGORIAN
METHOD:PUBLISH
X-WR-CALNAME:Lifestyle OBX
X-ORIGINAL-URL:https://lifestyleobx.com
X-WR-CALDESC:Events for Lifestyle OBX
REFRESH-INTERVAL;VALUE=DURATION:PT1H
X-Robots-Tag:noindex
X-PUBLISHED-TTL:PT1H
BEGIN:VTIMEZONE
TZID:America/New_York
BEGIN:DAYLIGHT
TZOFFSETFROM:-0500
TZOFFSETTO:-0400
TZNAME:EDT
DTSTART:20250309T070000
END:DAYLIGHT
BEGIN:STANDARD
TZOFFSETFROM:-0400
TZOFFSETTO:-0500
TZNAME:EST
DTSTART:20251102T060000
END:STANDARD
BEGIN:DAYLIGHT
TZOFFSETFROM:-0500
TZOFFSETTO:-0400
TZNAME:EDT
DTSTART:20260308T070000
END:DAYLIGHT
BEGIN:STANDARD
TZOFFSETFROM:-0400
TZOFFSETTO:-0500
TZNAME:EST
DTSTART:20261101T060000
END:STANDARD
BEGIN:DAYLIGHT
TZOFFSETFROM:-0500
TZOFFSETTO:-0400
TZNAME:EDT
DTSTART:20270314T070000
END:DAYLIGHT
BEGIN:STANDARD
TZOFFSETFROM:-0400
TZOFFSETTO:-0500
TZNAME:EST
DTSTART:20271107T060000
END:STANDARD
END:VTIMEZONE
BEGIN:VEVENT
DTSTART;TZID=America/New_York:20260421T080000
DTEND;TZID=America/New_York:20260421T170000
DTSTAMP:20260421T230758
CREATED:20260326T033212Z
LAST-MODIFIED:20260326T033212Z
UID:10023763-1776758400-1776790800@lifestyleobx.com
SUMMARY:Outer Banks Bike Week 2026
DESCRIPTION:The 24th Annual Outer Banks Bike Week roars into the Outer Banks from April 18–26\, 2026\, bringing thousands of riders and motorcycle enthusiasts together for nine days of coastal cruising\, entertainment\, and biker culture. The rally is headquartered at Outer Banks Harley-Davidson\, just north of the Wright Memorial Bridge\, but events and rides take place throughout the Outer Banks. \nThroughout the week\, visitors can enjoy guided scenic rides along the barrier islands\, live music\, bike shows\, demo rides\, and a bustling vendor marketplace. Special events include a Poker Run\, bike games\, contests\, and daily entertainment\, along with opportunities to explore some of the region’s most iconic coastal routes—from Corolla to Ocracoke Island. \nThe event grounds open daily starting at 9:00 AM\, and many activities are free to attend\, making it a fun stop for both riders and spectators. Whether you’re a motorcycle enthusiast or simply want to experience the energy and camaraderie of one of the East Coast’s most unique rallies\, Outer Banks Bike Week offers a lively atmosphere and plenty of reasons to ride—or just stop by and enjoy the show.
URL:https://lifestyleobx.com/event/outer-banks-bike-week-2026/2026-04-21/
LOCATION:Outer Banks Harley-Davidson\, Caratoke Highway\, Harbinger\, NC\, 27941\, United States
ATTACH;FMTTYPE=image/jpeg:https://lifestyleobx.com/wp-content/uploads/2026/03/Bike-Week.jpg
GEO:36.1009567;-75.8124679
X-APPLE-STRUCTURED-LOCATION;VALUE=URI;X-ADDRESS=Outer Banks Harley-Davidson Caratoke Highway Harbinger NC 27941 United States;X-APPLE-RADIUS=500;X-TITLE=Caratoke Highway:geo:-75.8124679,36.1009567
END:VEVENT
BEGIN:VEVENT
DTSTART;TZID=America/New_York:20260420T080000
DTEND;TZID=America/New_York:20260420T170000
DTSTAMP:20260421T230758
CREATED:20260326T033212Z
LAST-MODIFIED:20260326T033212Z
UID:10023762-1776672000-1776704400@lifestyleobx.com
SUMMARY:Outer Banks Bike Week 2026
DESCRIPTION:The 24th Annual Outer Banks Bike Week roars into the Outer Banks from April 18–26\, 2026\, bringing thousands of riders and motorcycle enthusiasts together for nine days of coastal cruising\, entertainment\, and biker culture. The rally is headquartered at Outer Banks Harley-Davidson\, just north of the Wright Memorial Bridge\, but events and rides take place throughout the Outer Banks. \nThroughout the week\, visitors can enjoy guided scenic rides along the barrier islands\, live music\, bike shows\, demo rides\, and a bustling vendor marketplace. Special events include a Poker Run\, bike games\, contests\, and daily entertainment\, along with opportunities to explore some of the region’s most iconic coastal routes—from Corolla to Ocracoke Island. \nThe event grounds open daily starting at 9:00 AM\, and many activities are free to attend\, making it a fun stop for both riders and spectators. Whether you’re a motorcycle enthusiast or simply want to experience the energy and camaraderie of one of the East Coast’s most unique rallies\, Outer Banks Bike Week offers a lively atmosphere and plenty of reasons to ride—or just stop by and enjoy the show.
URL:https://lifestyleobx.com/event/outer-banks-bike-week-2026/2026-04-20/
LOCATION:Outer Banks Harley-Davidson\, Caratoke Highway\, Harbinger\, NC\, 27941\, United States
ATTACH;FMTTYPE=image/jpeg:https://lifestyleobx.com/wp-content/uploads/2026/03/Bike-Week.jpg
GEO:36.1009567;-75.8124679
X-APPLE-STRUCTURED-LOCATION;VALUE=URI;X-ADDRESS=Outer Banks Harley-Davidson Caratoke Highway Harbinger NC 27941 United States;X-APPLE-RADIUS=500;X-TITLE=Caratoke Highway:geo:-75.8124679,36.1009567
END:VEVENT
BEGIN:VEVENT
DTSTART;TZID=America/New_York:20260419T080000
DTEND;TZID=America/New_York:20260419T170000
DTSTAMP:20260421T230758
CREATED:20260326T033212Z
LAST-MODIFIED:20260326T033212Z
UID:10023761-1776585600-1776618000@lifestyleobx.com
SUMMARY:Outer Banks Bike Week 2026
DESCRIPTION:The 24th Annual Outer Banks Bike Week roars into the Outer Banks from April 18–26\, 2026\, bringing thousands of riders and motorcycle enthusiasts together for nine days of coastal cruising\, entertainment\, and biker culture. The rally is headquartered at Outer Banks Harley-Davidson\, just north of the Wright Memorial Bridge\, but events and rides take place throughout the Outer Banks. \nThroughout the week\, visitors can enjoy guided scenic rides along the barrier islands\, live music\, bike shows\, demo rides\, and a bustling vendor marketplace. Special events include a Poker Run\, bike games\, contests\, and daily entertainment\, along with opportunities to explore some of the region’s most iconic coastal routes—from Corolla to Ocracoke Island. \nThe event grounds open daily starting at 9:00 AM\, and many activities are free to attend\, making it a fun stop for both riders and spectators. Whether you’re a motorcycle enthusiast or simply want to experience the energy and camaraderie of one of the East Coast’s most unique rallies\, Outer Banks Bike Week offers a lively atmosphere and plenty of reasons to ride—or just stop by and enjoy the show.
URL:https://lifestyleobx.com/event/outer-banks-bike-week-2026/2026-04-19/
LOCATION:Outer Banks Harley-Davidson\, Caratoke Highway\, Harbinger\, NC\, 27941\, United States
ATTACH;FMTTYPE=image/jpeg:https://lifestyleobx.com/wp-content/uploads/2026/03/Bike-Week.jpg
GEO:36.1009567;-75.8124679
X-APPLE-STRUCTURED-LOCATION;VALUE=URI;X-ADDRESS=Outer Banks Harley-Davidson Caratoke Highway Harbinger NC 27941 United States;X-APPLE-RADIUS=500;X-TITLE=Caratoke Highway:geo:-75.8124679,36.1009567
END:VEVENT
BEGIN:VEVENT
DTSTART;TZID=America/New_York:20260418T080000
DTEND;TZID=America/New_York:20260418T170000
DTSTAMP:20260421T230758
CREATED:20260326T033212Z
LAST-MODIFIED:20260326T033212Z
UID:10023760-1776499200-1776531600@lifestyleobx.com
SUMMARY:Outer Banks Bike Week 2026
DESCRIPTION:The 24th Annual Outer Banks Bike Week roars into the Outer Banks from April 18–26\, 2026\, bringing thousands of riders and motorcycle enthusiasts together for nine days of coastal cruising\, entertainment\, and biker culture. The rally is headquartered at Outer Banks Harley-Davidson\, just north of the Wright Memorial Bridge\, but events and rides take place throughout the Outer Banks. \nThroughout the week\, visitors can enjoy guided scenic rides along the barrier islands\, live music\, bike shows\, demo rides\, and a bustling vendor marketplace. Special events include a Poker Run\, bike games\, contests\, and daily entertainment\, along with opportunities to explore some of the region’s most iconic coastal routes—from Corolla to Ocracoke Island. \nThe event grounds open daily starting at 9:00 AM\, and many activities are free to attend\, making it a fun stop for both riders and spectators. Whether you’re a motorcycle enthusiast or simply want to experience the energy and camaraderie of one of the East Coast’s most unique rallies\, Outer Banks Bike Week offers a lively atmosphere and plenty of reasons to ride—or just stop by and enjoy the show.
URL:https://lifestyleobx.com/event/outer-banks-bike-week-2026/2026-04-18/
LOCATION:Outer Banks Harley-Davidson\, Caratoke Highway\, Harbinger\, NC\, 27941\, United States
ATTACH;FMTTYPE=image/jpeg:https://lifestyleobx.com/wp-content/uploads/2026/03/Bike-Week.jpg
GEO:36.1009567;-75.8124679
X-APPLE-STRUCTURED-LOCATION;VALUE=URI;X-ADDRESS=Outer Banks Harley-Davidson Caratoke Highway Harbinger NC 27941 United States;X-APPLE-RADIUS=500;X-TITLE=Caratoke Highway:geo:-75.8124679,36.1009567
END:VEVENT
END:VCALENDAR